BEGIN:VCALENDAR
VERSION:2.0
PRODID:-//il Institut Akademie - ECPv6.15.20//NONSGML v1.0//EN
CALSCALE:GREGORIAN
METHOD:PUBLISH
X-ORIGINAL-URL:https://www.il-institut.at
X-WR-CALDESC:Veranstaltungen für il Institut Akademie
REFRESH-INTERVAL;VALUE=DURATION:PT1H
X-Robots-Tag:noindex
X-PUBLISHED-TTL:PT1H
BEGIN:VTIMEZONE
TZID:Europe/Helsinki
BEGIN:DAYLIGHT
TZOFFSETFROM:+0200
TZOFFSETTO:+0300
TZNAME:EEST
DTSTART:20250330T010000
END:DAYLIGHT
BEGIN:STANDARD
TZOFFSETFROM:+0300
TZOFFSETTO:+0200
TZNAME:EET
DTSTART:20251026T010000
END:STANDARD
BEGIN:DAYLIGHT
TZOFFSETFROM:+0200
TZOFFSETTO:+0300
TZNAME:EEST
DTSTART:20260329T010000
END:DAYLIGHT
BEGIN:STANDARD
TZOFFSETFROM:+0300
TZOFFSETTO:+0200
TZNAME:EET
DTSTART:20261025T010000
END:STANDARD
BEGIN:DAYLIGHT
TZOFFSETFROM:+0200
TZOFFSETTO:+0300
TZNAME:EEST
DTSTART:20270328T010000
END:DAYLIGHT
BEGIN:STANDARD
TZOFFSETFROM:+0300
TZOFFSETTO:+0200
TZNAME:EET
DTSTART:20271031T010000
END:STANDARD
END:VTIMEZONE
BEGIN:VEVENT
DTSTART;TZID=Europe/Helsinki:20260910T100000
DTEND;TZID=Europe/Helsinki:20260913T140000
DTSTAMP:20260425T054604
CREATED:20260310T083432Z
LAST-MODIFIED:20260310T083432Z
UID:78119-1789034400-1789308000@www.il-institut.at
SUMMARY:Horse Assisted Coaching Masterclass
DESCRIPTION:Von der Methode zur Meisterschaft\nFortgeschrittene Praxis im Horse Assisted Coaching\nIn dieser Masterclass vertiefen Sie Ihre Kompetenz als pferdegestützte:r Coach auf allen Ebenen. Sie erweitern Ihren Methodenkoffer um erprobte Formate für konkrete Coaching-Themen\, stärken Ihre Präsenz und Haltung als Coach und lernen\, die besondere Dynamik zwischen Mensch und Pferd noch bewusster und wirkungsvoller zu gestalten. \nGleichzeitig schärfen Sie Ihr Profil\, entwickeln Ihre Sichtbarkeit als Horse Assisted Coach und nehmen einen klaren Fahrplan mit\, wie Sie Ihr Angebot authentisch kommunizieren und die richtigen Klient:innen erreichen. \nAus dem Inhalt: \n\n„Hygge” mit Pferd – niederschwellige Einstiegsformate entwickeln\nSystemische Teilearbeit mit Pferden anleiten\nDer Energie-Shift Indikator – Durchbrüche im Coaching erkennen\nCoaching-Formate für Angst\, Unsicherheit und Kontrollbedürfnis\nDas Pferd als ehrlicher Spiegel und einfühlsamer Begleiter\nDer 30-Sekunden-Check – Bereitschaft des Pferdes als Co-Coach einschätzen\nPräsenz\, Haltung und authentische Selbstsicherheit als Coach\nDas kraftvolle Dreieck: Coach\, Klient:in und Pferd bewusst steuern\nSupervision & kollegialer Austausch mit eigenen Praxisfällen\nSichtbarkeit & Kundengewinnung – Marketing für sensible\, pferdegestützte Arbeit
URL:https://www.il-institut.at/event/hac-masterclass-26/
LOCATION:Pferdebrücke\, Wernersdorf 2\, Neidling\, 3110\, Österreich
CATEGORIES:HAC-Masterclass
ATTACH;FMTTYPE=image/png:https://www.il-institut.at/wp-content/uploads/2026/03/header_wordpress_pillar_page.png
ORGANIZER;CN="il Aus- und Weiterbildung GmbH":MAILTO:team@il.co.at
END:VEVENT
END:VCALENDAR